BEGIN:VCALENDAR
VERSION:2.0
PRODID:-//Secretaría General - ECPv6.1.2.2//NONSGML v1.0//EN
CALSCALE:GREGORIAN
METHOD:PUBLISH
X-WR-CALNAME:Secretaría General
X-ORIGINAL-URL:https://secretariageneral.cayetano.edu.pe
X-WR-CALDESC:Eventos para Secretaría General
REFRESH-INTERVAL;VALUE=DURATION:PT1H
X-Robots-Tag:noindex
X-PUBLISHED-TTL:PT1H
BEGIN:VTIMEZONE
TZID:America/Lima
BEGIN:STANDARD
TZOFFSETFROM:-0500
TZOFFSETTO:-0500
TZNAME:-05
DTSTART:20260101T000000
END:STANDARD
END:VTIMEZONE
BEGIN:VEVENT
DTSTART;TZID=America/Lima:20260422T080000
DTEND;TZID=America/Lima:20260422T170000
DTSTAMP:20260420T055915
CREATED:20260120T152620Z
LAST-MODIFIED:20260120T152624Z
UID:894-1776844800-1776877200@secretariageneral.cayetano.edu.pe
SUMMARY:Sesión de Consejo Universitario Presencial
DESCRIPTION:
URL:https://secretariageneral.cayetano.edu.pe/actividad/sesion-de-consejo-universitario-presencial-26/
END:VEVENT
END:VCALENDAR